






BEGIN:VCALENDAR
VERSION:2.0
PRODID:-//AUBRAC IRISH CATTLE BREED SOCIETY - ECPv6.2.2//NONSGML v1.0//EN
CALSCALE:GREGORIAN
METHOD:PUBLISH
X-ORIGINAL-URL:https://aubrac.ie
X-WR-CALDESC:Events for AUBRAC IRISH CATTLE BREED SOCIETY
REFRESH-INTERVAL;VALUE=DURATION:PT1H
X-Robots-Tag:noindex
X-PUBLISHED-TTL:PT1H
BEGIN:VTIMEZONE
TZID:UTC
BEGIN:STANDARD
TZOFFSETFROM:+0000
TZOFFSETTO:+0000
TZNAME:UTC
DTSTART:20220101T000000
END:STANDARD
END:VTIMEZONE
BEGIN:VEVENT
DTSTART;VALUE=DATE:20221029
DTEND;VALUE=DATE:20221030
DTSTAMP:20260425T151239
CREATED:20221020T133832Z
LAST-MODIFIED:20221020T134253Z
UID:17330-1667001600-1667087999@aubrac.ie
SUMMARY:Aubrac Catalogue 2022
DESCRIPTION:
URL:https://aubrac.ie/event/aubrac-catalogue-2022/
LOCATION:tullamore\, Tullamore\, Tullamore\, Offaly
CATEGORIES:SOCIETY EVENTS
ATTACH;FMTTYPE=image/jpeg:https://aubrac.ie/wp-content/uploads/2022/10/jpg-for-cover-art.jpg
END:VEVENT
BEGIN:VEVENT
DTSTART;VALUE=DATE:20230429
DTEND;VALUE=DATE:20230430
DTSTAMP:20260425T151239
CREATED:20230328T130944Z
LAST-MODIFIED:20230328T131134Z
UID:17470-1682726400-1682812799@aubrac.ie
SUMMARY:Future stars of the showring
DESCRIPTION:
URL:https://aubrac.ie/event/future-stars-of-the-showring/
CATEGORIES:AGRICULTURAL SHOWS,ALL AUBRAC EVENTS
END:VEVENT
END:VCALENDAR